BEGIN:VCALENDAR
VERSION:2.0
PRODID:-//hacksw/handcal//NONSGML v1.0//EN
BEGIN:VEVENT
SUMMARY:TAE LUSIGNAN
UID:3f5b2790-0e1a-4b82-b34b-775f615463e3
DTSTART:20260612T220000Z
DTEND:20260614T220000Z
LOCATION:Localisation   
CATEGORIES:Sportif
STATUS:
URL;VALUE=URI:https://www.archerssaintais.com/evenements/2026/06/13/tae-lusignan-2426395
END:VEVENT
END:VCALENDAR
