BEGIN:VCALENDAR
VERSION:2.0
PRODID:-//hacksw/handcal//NONSGML v1.0//EN
BEGIN:VEVENT
SUMMARY:TAE ARDIN
UID:b7b784bf-4e70-4c52-ae3f-595bfeadf5cc
DTSTART:20260602T220000Z
DTEND:20260603T220000Z
LOCATION:Localisation   
CATEGORIES:Sportif
STATUS:
URL;VALUE=URI:https://www.archerssaintais.com/evenements/2026/06/03/tae-ardin-2426390
END:VEVENT
END:VCALENDAR
