BEGIN:VCALENDAR
VERSION:2.0
PRODID:-//hacksw/handcal//NONSGML v1.0//EN
BEGIN:VEVENT
SUMMARY:DRE Manche 2 LOUDUN
UID:d706321e-5d5e-412c-aca8-c7ea4b7858fb
DTSTART:20260530T220000Z
DTEND:20260531T220000Z
LOCATION:Localisation   
CATEGORIES:Sportif
STATUS:
URL;VALUE=URI:https://www.archerssaintais.com/evenements/2026/05/31/dre-manche-2-loudun-2426389
END:VEVENT
END:VCALENDAR
