BEGIN:VCALENDAR
VERSION:2.0
PRODID:-//hacksw/handcal//NONSGML v1.0//EN
BEGIN:VEVENT
SUMMARY:TAE La ROCHELLE
UID:27a8b0fc-b8da-4565-84b4-11c8810a6e25
DTSTART:20260523T220000Z
DTEND:20260524T220000Z
LOCATION:Localisation   
CATEGORIES:Sportif
STATUS:
URL;VALUE=URI:https://www.archerssaintais.com/evenements/2026/05/24/tae-la-rochelle-2426388
END:VEVENT
END:VCALENDAR
