BEGIN:VCALENDAR
VERSION:2.0
PRODID:-//hacksw/handcal//NONSGML v1.0//EN
BEGIN:VEVENT
SUMMARY:TAE ARDIN
UID:749d9642-5733-41b4-9889-3970bba93860
DTSTART:20260519T220000Z
DTEND:20260520T220000Z
LOCATION:Localisation   
CATEGORIES:Sportif
STATUS:
URL;VALUE=URI:https://www.archerssaintais.com/evenements/2026/05/20/tae-ardin-2426387
END:VEVENT
END:VCALENDAR
