BEGIN:VCALENDAR
VERSION:2.0
PRODID:-//hacksw/handcal//NONSGML v1.0//EN
BEGIN:VEVENT
SUMMARY:TAE La TREMBLADE
UID:b49e6637-f21b-43e8-9957-ef12b2266bc1
DTSTART:20260516T220000Z
DTEND:20260517T220000Z
LOCATION:Localisation   
CATEGORIES:Sportif
STATUS:
URL;VALUE=URI:https://www.archerssaintais.com/evenements/2026/05/17/tae-la-tremblade-2426386
END:VEVENT
END:VCALENDAR
